BEGIN:VCALENDAR
VERSION:2.0
PRODID:-//DOT Ministries, Inc. - ECPv6.15.10//NONSGML v1.0//EN
CALSCALE:GREGORIAN
METHOD:PUBLISH
X-WR-CALNAME:DOT Ministries, Inc.
X-ORIGINAL-URL:https://dotministries.org
X-WR-CALDESC:Events for DOT Ministries, Inc.
REFRESH-INTERVAL;VALUE=DURATION:PT1H
X-Robots-Tag:noindex
X-PUBLISHED-TTL:PT1H
BEGIN:VTIMEZONE
TZID:America/New_York
BEGIN:DAYLIGHT
TZOFFSETFROM:-0500
TZOFFSETTO:-0400
TZNAME:EDT
DTSTART:20210314T070000
END:DAYLIGHT
BEGIN:STANDARD
TZOFFSETFROM:-0400
TZOFFSETTO:-0500
TZNAME:EST
DTSTART:20211107T060000
END:STANDARD
BEGIN:DAYLIGHT
TZOFFSETFROM:-0500
TZOFFSETTO:-0400
TZNAME:EDT
DTSTART:20220313T070000
END:DAYLIGHT
BEGIN:STANDARD
TZOFFSETFROM:-0400
TZOFFSETTO:-0500
TZNAME:EST
DTSTART:20221106T060000
END:STANDARD
BEGIN:DAYLIGHT
TZOFFSETFROM:-0500
TZOFFSETTO:-0400
TZNAME:EDT
DTSTART:20230312T070000
END:DAYLIGHT
BEGIN:STANDARD
TZOFFSETFROM:-0400
TZOFFSETTO:-0500
TZNAME:EST
DTSTART:20231105T060000
END:STANDARD
BEGIN:DAYLIGHT
TZOFFSETFROM:-0500
TZOFFSETTO:-0400
TZNAME:EDT
DTSTART:20240310T070000
END:DAYLIGHT
BEGIN:STANDARD
TZOFFSETFROM:-0400
TZOFFSETTO:-0500
TZNAME:EST
DTSTART:20241103T060000
END:STANDARD
BEGIN:DAYLIGHT
TZOFFSETFROM:-0500
TZOFFSETTO:-0400
TZNAME:EDT
DTSTART:20250309T070000
END:DAYLIGHT
BEGIN:STANDARD
TZOFFSETFROM:-0400
TZOFFSETTO:-0500
TZNAME:EST
DTSTART:20251102T060000
END:STANDARD
BEGIN:DAYLIGHT
TZOFFSETFROM:-0500
TZOFFSETTO:-0400
TZNAME:EDT
DTSTART:20260308T070000
END:DAYLIGHT
BEGIN:STANDARD
TZOFFSETFROM:-0400
TZOFFSETTO:-0500
TZNAME:EST
DTSTART:20261101T060000
END:STANDARD
BEGIN:DAYLIGHT
TZOFFSETFROM:-0500
TZOFFSETTO:-0400
TZNAME:EDT
DTSTART:20270314T070000
END:DAYLIGHT
BEGIN:STANDARD
TZOFFSETFROM:-0400
TZOFFSETTO:-0500
TZNAME:EST
DTSTART:20271107T060000
END:STANDARD
END:VTIMEZONE
BEGIN:VEVENT
DTSTART;TZID=America/New_York:20260228T170000
DTEND;TZID=America/New_York:20260228T213000
DTSTAMP:20260423T175553
CREATED:20241122T225516Z
LAST-MODIFIED:20251119T144645Z
UID:3321-1772298000-1772314200@dotministries.org
SUMMARY:KOC Spaghetti Dinner and Trivia Night Fundraiser
DESCRIPTION:The Knights of Columbus at St Thomas Aquinas Church have supported the mission trip for well over 20 years.  We’ll lend our support to them to put on this annual event.
URL:https://dotministries.org/event/koc-trivia-night-fundraiser-2/
LOCATION:St. Thomas Aquinas Catholic Church\, 535 Rucker Rd\, Alpharetta\, 30004\, United States
END:VEVENT
BEGIN:VEVENT
DTSTART;TZID=America/New_York:20260107T193000
DTEND;TZID=America/New_York:20260107T210000
DTSTAMP:20260423T175553
CREATED:20241122T224824Z
LAST-MODIFIED:20251117T152809Z
UID:3315-1767814200-1767819600@dotministries.org
SUMMARY:General Information and Sign Up Meeting
DESCRIPTION:Meet us in the St Thomas Aquinas Church Parish Hall to learn more about the Whitesville Mission Trip\, and to sign up!  Information about the 2026 trip along with important dates and fundraising needs will be presented. \nSt Thomas Aquinas Church is located at 535 Rucker Road\, Alpharetta\, GA 30004.
URL:https://dotministries.org/event/general-information-and-sign-up-meeting-2/
LOCATION:St. Thomas Aquinas Catholic Church\, 535 Rucker Rd\, Alpharetta\, 30004\, United States
END:VEVENT
BEGIN:VEVENT
DTSTART;VALUE=DATE:20240615
DTEND;VALUE=DATE:20240616
DTSTAMP:20260423T175553
CREATED:20250614T110024Z
LAST-MODIFIED:20241122T223711Z
UID:2641-1718409600-1718495999@dotministries.org
SUMMARY:Depart for Whitesville!
DESCRIPTION:
URL:https://dotministries.org/event/depart-for-whitesville/
END:VEVENT
BEGIN:VEVENT
DTSTART;TZID=America/New_York:20240613T180000
DTEND;TZID=America/New_York:20240613T193000
DTSTAMP:20260423T175553
CREATED:20250610T100000Z
LAST-MODIFIED:20241122T223816Z
UID:3159-1718301600-1718307000@dotministries.org
SUMMARY:Mission Trip Send Off Potluck
DESCRIPTION:
URL:https://dotministries.org/event/mission-trip-send-off-potluck/
LOCATION:St. Thomas Aquinas Catholic Church\, 535 Rucker Rd\, Alpharetta\, 30004\, United States
END:VEVENT
BEGIN:VEVENT
DTSTART;TZID=America/New_York:20240420T080000
DTEND;TZID=America/New_York:20240420T170000
DTSTAMP:20260423T175553
CREATED:20240323T162455Z
LAST-MODIFIED:20240323T162455Z
UID:2637-1713600000-1713632400@dotministries.org
SUMMARY:Yard Sale
DESCRIPTION:This is one of our two annual fundraisers and is an all-hands on deck event.
URL:https://dotministries.org/event/yard-sale/
LOCATION:St. Thomas Aquinas Catholic Church\, 535 Rucker Rd\, Alpharetta\, 30004\, United States
END:VEVENT
BEGIN:VEVENT
DTSTART;TZID=America/New_York:20240419T160000
DTEND;TZID=America/New_York:20240419T200000
DTSTAMP:20260423T175553
CREATED:20240323T162550Z
LAST-MODIFIED:20240323T162550Z
UID:2639-1713542400-1713556800@dotministries.org
SUMMARY:Yard Sale Set-Up
DESCRIPTION:Set up tables and receive items.
URL:https://dotministries.org/event/yard-sale-set-up/
END:VEVENT
BEGIN:VEVENT
DTSTART;TZID=America/New_York:20240418T193000
DTEND;TZID=America/New_York:20240418T210000
DTSTAMP:20260423T175553
CREATED:20240326T141231Z
LAST-MODIFIED:20240326T141231Z
UID:3157-1713468600-1713474000@dotministries.org
SUMMARY:Missionary Meeting
DESCRIPTION:All teens and adults attending the trip are encouraged to attend this introductory meeting.
URL:https://dotministries.org/event/missionary-meeting/
LOCATION:St. Thomas Aquinas Catholic Church\, 535 Rucker Rd\, Alpharetta\, 30004\, United States
END:VEVENT
BEGIN:VEVENT
DTSTART;VALUE=DATE:20230617
DTEND;VALUE=DATE:20230626
DTSTAMP:20260423T175553
CREATED:20230114T150008Z
LAST-MODIFIED:20230114T150112Z
UID:1844-1686960000-1687737599@dotministries.org
SUMMARY:2023 Mission Trip
DESCRIPTION:
URL:https://dotministries.org/event/2023-mission-trip-dates/
END:VEVENT
BEGIN:VEVENT
DTSTART;TZID=America/New_York:20230204T180000
DTEND;TZID=America/New_York:20230204T220000
DTSTAMP:20260423T175553
CREATED:20230114T145754Z
LAST-MODIFIED:20230114T145754Z
UID:1842-1675533600-1675548000@dotministries.org
SUMMARY:KOC Trivia Night Fundraiser
DESCRIPTION:
URL:https://dotministries.org/event/koc-trivia-night-fundraiser/
LOCATION:St. Thomas Aquinas Catholic Church\, 535 Rucker Rd\, Alpharetta\, 30004\, United States
END:VEVENT
BEGIN:VEVENT
DTSTART;TZID=America/New_York:20230118T193000
DTEND;TZID=America/New_York:20230118T203000
DTSTAMP:20260423T175553
CREATED:20230114T145416Z
LAST-MODIFIED:20230114T145416Z
UID:1840-1674070200-1674073800@dotministries.org
SUMMARY:Mission Trip Sign-Up Meeting
DESCRIPTION:
URL:https://dotministries.org/event/mission-trip-sign-up-meeting/
LOCATION:St. Thomas Aquinas Catholic Church\, 535 Rucker Rd\, Alpharetta\, 30004\, United States
END:VEVENT
BEGIN:VEVENT
DTSTART;VALUE=DATE:20220618
DTEND;VALUE=DATE:20220627
DTSTAMP:20260423T175553
CREATED:20211111T165829Z
LAST-MODIFIED:20211111T165829Z
UID:1759-1655510400-1656287999@dotministries.org
SUMMARY:Mission Trip!
DESCRIPTION:
URL:https://dotministries.org/event/mission-trip/
END:VEVENT
BEGIN:VEVENT
DTSTART;TZID=America/New_York:20220608T193000
DTEND;TZID=America/New_York:20220608T210000
DTSTAMP:20260423T175553
CREATED:20211111T163931Z
LAST-MODIFIED:20211111T163931Z
UID:1736-1654716600-1654722000@dotministries.org
SUMMARY:Potluck Dinner and Meeting
DESCRIPTION:
URL:https://dotministries.org/event/potluck-dinner-and-meeting/
LOCATION:St. Thomas Aquinas Catholic Church\, 535 Rucker Rd\, Alpharetta\, 30004\, United States
END:VEVENT
BEGIN:VEVENT
DTSTART;TZID=America/New_York:20220430T090000
DTEND;TZID=America/New_York:20220430T160000
DTSTAMP:20260423T175553
CREATED:20211111T163853Z
LAST-MODIFIED:20211111T163853Z
UID:1734-1651309200-1651334400@dotministries.org
SUMMARY:Yard Sale Fundraiser
DESCRIPTION:
URL:https://dotministries.org/event/yard-sale-fundraiser/
LOCATION:St. Thomas Aquinas Catholic Church\, 535 Rucker Rd\, Alpharetta\, 30004\, United States
END:VEVENT
BEGIN:VEVENT
DTSTART;TZID=America/New_York:20220419T193000
DTEND;TZID=America/New_York:20220419T210000
DTSTAMP:20260423T175553
CREATED:20211111T163807Z
LAST-MODIFIED:20211111T163807Z
UID:1732-1650396600-1650402000@dotministries.org
SUMMARY:Mission Trip Participant Meeting
DESCRIPTION:
URL:https://dotministries.org/event/mission-trip-participant-meeting/
LOCATION:St. Thomas Aquinas Catholic Church\, 535 Rucker Rd\, Alpharetta\, 30004\, United States
END:VEVENT
BEGIN:VEVENT
DTSTART;TZID=America/New_York:20220219T183000
DTEND;TZID=America/New_York:20220219T213000
DTSTAMP:20260423T175553
CREATED:20211111T163718Z
LAST-MODIFIED:20211111T163718Z
UID:1730-1645295400-1645306200@dotministries.org
SUMMARY:Spaghetti Dinner and Trivia Night Fundraiser
DESCRIPTION:
URL:https://dotministries.org/event/spaghetti-dinner-and-trivia-night-fundraiser/
LOCATION:St. Thomas Aquinas Catholic Church\, 535 Rucker Rd\, Alpharetta\, 30004\, United States
END:VEVENT
BEGIN:VEVENT
DTSTART;TZID=America/New_York:20220111T193000
DTEND;TZID=America/New_York:20220111T210000
DTSTAMP:20260423T175553
CREATED:20250121T123013Z
LAST-MODIFIED:20241122T224002Z
UID:1725-1641929400-1641934800@dotministries.org
SUMMARY:General Information and Sign Up Meeting
DESCRIPTION:Meet us in the Parish Hall to learn more about the Whitesville Mission Trip\, and to sign up!
URL:https://dotministries.org/event/general-information-and-sign-up-meeting/
LOCATION:St. Thomas Aquinas Catholic Church\, 535 Rucker Rd\, Alpharetta\, 30004\, United States
END:VEVENT
END:VCALENDAR