BEGIN:VCALENDAR
VERSION:2.0
PRODID:-//DOT Ministries, Inc. - ECPv6.15.10//NONSGML v1.0//EN
CALSCALE:GREGORIAN
METHOD:PUBLISH
X-ORIGINAL-URL:https://dotministries.org
X-WR-CALDESC:Events for DOT Ministries, Inc.
REFRESH-INTERVAL;VALUE=DURATION:PT1H
X-Robots-Tag:noindex
X-PUBLISHED-TTL:PT1H
BEGIN:VTIMEZONE
TZID:America/New_York
BEGIN:DAYLIGHT
TZOFFSETFROM:-0500
TZOFFSETTO:-0400
TZNAME:EDT
DTSTART:20250309T070000
END:DAYLIGHT
BEGIN:STANDARD
TZOFFSETFROM:-0400
TZOFFSETTO:-0500
TZNAME:EST
DTSTART:20251102T060000
END:STANDARD
BEGIN:DAYLIGHT
TZOFFSETFROM:-0500
TZOFFSETTO:-0400
TZNAME:EDT
DTSTART:20260308T070000
END:DAYLIGHT
BEGIN:STANDARD
TZOFFSETFROM:-0400
TZOFFSETTO:-0500
TZNAME:EST
DTSTART:20261101T060000
END:STANDARD
BEGIN:DAYLIGHT
TZOFFSETFROM:-0500
TZOFFSETTO:-0400
TZNAME:EDT
DTSTART:20270314T070000
END:DAYLIGHT
BEGIN:STANDARD
TZOFFSETFROM:-0400
TZOFFSETTO:-0500
TZNAME:EST
DTSTART:20271107T060000
END:STANDARD
END:VTIMEZONE
BEGIN:VEVENT
DTSTART;TZID=America/New_York:20260228T170000
DTEND;TZID=America/New_York:20260228T213000
DTSTAMP:20260423T192640
CREATED:20241122T225516Z
LAST-MODIFIED:20251119T144645Z
UID:3321-1772298000-1772314200@dotministries.org
SUMMARY:KOC Spaghetti Dinner and Trivia Night Fundraiser
DESCRIPTION:The Knights of Columbus at St Thomas Aquinas Church have supported the mission trip for well over 20 years.  We’ll lend our support to them to put on this annual event.
URL:https://dotministries.org/event/koc-trivia-night-fundraiser-2/
LOCATION:St. Thomas Aquinas Catholic Church\, 535 Rucker Rd\, Alpharetta\, 30004\, United States
END:VEVENT
BEGIN:VEVENT
DTSTART;TZID=America/New_York:20260424T160000
DTEND;TZID=America/New_York:20260424T200000
DTSTAMP:20260423T192640
CREATED:20241122T225223Z
LAST-MODIFIED:20260406T195446Z
UID:3317-1777046400-1777060800@dotministries.org
SUMMARY:Yard Sale Set-Up - CANCELLED
DESCRIPTION:Set up tables and receive items.
URL:https://dotministries.org/event/yard-sale-set-up-2/
LOCATION:St. Thomas Aquinas Catholic Church\, 535 Rucker Rd\, Alpharetta\, 30004\, United States
END:VEVENT
BEGIN:VEVENT
DTSTART;TZID=America/New_York:20260425T080000
DTEND;TZID=America/New_York:20260425T160000
DTSTAMP:20260423T192640
CREATED:20241122T225341Z
LAST-MODIFIED:20260406T195527Z
UID:3319-1777104000-1777132800@dotministries.org
SUMMARY:Yard Sale - CANCELLED
DESCRIPTION:This is one of our two annual fundraisers and is an all-hands on deck event.
URL:https://dotministries.org/event/yard-sale-2/
LOCATION:St. Thomas Aquinas Catholic Church\, 535 Rucker Rd\, Alpharetta\, 30004\, United States
END:VEVENT
BEGIN:VEVENT
DTSTART;TZID=America/New_York:20260617T180000
DTEND;TZID=America/New_York:20260617T203000
DTSTAMP:20260423T192640
CREATED:20241122T225808Z
LAST-MODIFIED:20251117T152955Z
UID:3324-1781719200-1781728200@dotministries.org
SUMMARY:Potluck Dinner and Meeting
DESCRIPTION:
URL:https://dotministries.org/event/potluck-dinner-and-meeting-2/
LOCATION:St. Thomas Aquinas Catholic Church\, 535 Rucker Rd\, Alpharetta\, 30004\, United States
END:VEVENT
BEGIN:VEVENT
DTSTART;TZID=America/New_York:20260620T070000
DTEND;TZID=America/New_York:20260628T170000
DTSTAMP:20260423T192640
CREATED:20241122T230004Z
LAST-MODIFIED:20251117T152228Z
UID:3326-1781938800-1782666000@dotministries.org
SUMMARY:Depart for Whitesville!
DESCRIPTION:
URL:https://dotministries.org/event/depart-for-whitesville-2/
LOCATION:St. Thomas Aquinas Catholic Church\, 535 Rucker Rd\, Alpharetta\, 30004\, United States
END:VEVENT
END:VCALENDAR